Package: SynExtend Version: 1.21.2 Maintainer: Nicholas Cooley MaintainerEmail: npc19 at pitt.edu git_url: https://git.bioconductor.org/packages/SynExtend git_branch: devel git_last_commit: 6662838 git_last_commit_date: 2025-10-17 08:59:08 -0400 (Fri, 17 Oct 2025)