Package: SwathXtend Version: 2.31.0 Command: /Library/Frameworks/R.framework/Resources/bin/R CMD INSTALL SwathXtend StartedAt: 2025-09-30 15:02:57 -0400 (Tue, 30 Sep 2025) EndedAt: 2025-09-30 15:03:05 -0400 (Tue, 30 Sep 2025) EllapsedTime: 8.3 seconds RetCode: 0 Status: OK