Package: SuperCellCyto Version: 0.99.3 Command: /home/biocbuild/bbs-3.22-bioc/R/bin/R CMD INSTALL SuperCellCyto StartedAt: 2025-10-20 15:10:21 -0400 (Mon, 20 Oct 2025) EndedAt: 2025-10-20 15:10:34 -0400 (Mon, 20 Oct 2025) EllapsedTime: 13.1 seconds RetCode: 0 Status: OK