Package: SuperCellCyto Version: 0.99.3 Command: /home/biocbuild/bbs-3.22-bioc/R/bin/R CMD check --install=check:SuperCellCyto.install-out.txt --library=/home/biocbuild/bbs-3.22-bioc/R/site-library --timings SuperCellCyto_0.99.3.tar.gz StartedAt: 2025-10-21 05:21:43 -0400 (Tue, 21 Oct 2025) EndedAt: 2025-10-21 05:28:46 -0400 (Tue, 21 Oct 2025) EllapsedTime: 423.4 seconds RetCode: 0 Status: OK CheckDir: SuperCellCyto.Rcheck Warnings: 0