Package: SuperCellCyto Version: 0.99.3 Command: /home/biocbuild/bbs-3.22-bioc/R/bin/R CMD build --keep-empty-dirs --no-resave-data --md5 SuperCellCyto StartedAt: 2025-10-20 20:19:04 -0400 (Mon, 20 Oct 2025) EndedAt: 2025-10-20 20:20:52 -0400 (Mon, 20 Oct 2025) EllapsedTime: 108.1 seconds RetCode: 0 Status: OK PackageFile: SuperCellCyto_0.99.3.tar.gz PackageFileSize: 4.383 MiB