Package: SuperCellCyto Version: 0.99.3 Command: /Library/Frameworks/R.framework/Resources/bin/R CMD check --install=check:SuperCellCyto.install-out.txt --library=/Library/Frameworks/R.framework/Resources/library --no-vignettes --timings SuperCellCyto_0.99.3.tar.gz StartedAt: 2025-10-22 01:25:44 -0400 (Wed, 22 Oct 2025) EndedAt: 2025-10-22 01:32:00 -0400 (Wed, 22 Oct 2025) EllapsedTime: 375.8 seconds RetCode: 0 Status: OK CheckDir: SuperCellCyto.Rcheck Warnings: 0