Package: SuperCellCyto Version: 0.99.3 Command: /Library/Frameworks/R.framework/Resources/bin/R CMD build --keep-empty-dirs --no-resave-data SuperCellCyto StartedAt: 2025-10-21 19:46:21 -0400 (Tue, 21 Oct 2025) EndedAt: 2025-10-21 19:48:23 -0400 (Tue, 21 Oct 2025) EllapsedTime: 122.3 seconds RetCode: 0 Status: OK PackageFile: SuperCellCyto_0.99.3.tar.gz PackageFileSize: 4.438 MiB