Package: SuperCellCyto Version: 0.99.3 Command: rm -rf SuperCellCyto.buildbin-libdir && mkdir SuperCellCyto.buildbin-libdir && /Users/biocbuild/BBS/utils/build-universal.sh SuperCellCyto_0.99.3.tar.gz /Library/Frameworks/R.framework/Resources/bin/R SuperCellCyto.buildbin-libdir StartedAt: 2025-10-22 02:52:06 -0400 (Wed, 22 Oct 2025) EndedAt: 2025-10-22 02:52:18 -0400 (Wed, 22 Oct 2025) EllapsedTime: 11.6 seconds RetCode: 0 Status: OK PackageFile: SuperCellCyto_0.99.3.tgz PackageFileSize: 3.873 MiB