Package: SuperCellCyto Version: 0.99.3 Command: /Library/Frameworks/R.framework/Resources/bin/R CMD check --install=check:SuperCellCyto.install-out.txt --library=/Library/Frameworks/R.framework/Resources/library --no-vignettes --timings SuperCellCyto_0.99.3.tar.gz StartedAt: 2025-10-21 22:22:37 -0400 (Tue, 21 Oct 2025) EndedAt: 2025-10-21 22:25:04 -0400 (Tue, 21 Oct 2025) EllapsedTime: 147.8 seconds RetCode: 0 Status: OK CheckDir: SuperCellCyto.Rcheck Warnings: 0