Package: Streamer Version: 1.55.1 Command: /Library/Frameworks/R.framework/Resources/bin/R CMD build --keep-empty-dirs --no-resave-data Streamer StartedAt: 2025-10-19 19:44:21 -0400 (Sun, 19 Oct 2025) EndedAt: 2025-10-19 19:45:01 -0400 (Sun, 19 Oct 2025) EllapsedTime: 39.1 seconds RetCode: 0 Status: OK PackageFile: Streamer_1.55.1.tar.gz PackageFileSize: 133.9 KiB