Package: Streamer Version: 1.55.1 Command: /Library/Frameworks/R.framework/Resources/bin/R CMD INSTALL Streamer StartedAt: 2025-10-19 15:07:02 -0400 (Sun, 19 Oct 2025) EndedAt: 2025-10-19 15:07:05 -0400 (Sun, 19 Oct 2025) EllapsedTime: 3.1 seconds RetCode: 0 Status: OK