############################################################################## ############################################################################## ### ### Running command: ### ### rm -rf SpectriPy.buildbin-libdir && mkdir SpectriPy.buildbin-libdir && F:\biocbuild\bbs-3.22-bioc\R\bin\R.exe CMD INSTALL --build --library=SpectriPy.buildbin-libdir SpectriPy_0.99.8.tar.gz ### ############################################################################## ############################################################################## * installing *source* package 'SpectriPy' ... ** this is package 'SpectriPy' version '0.99.8' ** using staged installation ** R ** inst ** byte-compile and prepare package for lazy loading ** help *** installing help indices ** building package indices ** installing vignettes ** testing if installed package can be loaded from temporary location python: C:/Users/biocbuild/AppData/Local/R/cache/R/reticulate/uv/cache/archive-v0/_0aNXaySk755D_OyXtkkx/Scripts/python.exe libpython: C:/Users/biocbuild/AppData/Local/R/cache/R/reticulate/uv/python/cpython-3.12.9-windows-x86_64-none/python312.dll pythonhome: C:/Users/biocbuild/AppData/Local/R/cache/R/reticulate/uv/cache/archive-v0/_0aNXaySk755D_OyXtkkx virtualenv: C:/Users/biocbuild/AppData/Local/R/cache/R/reticulate/uv/cache/archive-v0/_0aNXaySk755D_OyXtkkx/Scripts/activate_this.py version: 3.12.9 (main, Mar 17 2025, 21:06:20) [MSC v.1943 64 bit (AMD64)] Architecture: 64bit numpy: C:/Users/biocbuild/AppData/Local/R/cache/R/reticulate/uv/cache/archive-v0/_0aNXaySk755D_OyXtkkx/Lib/site-packages/numpy numpy_version: 2.2.6 NOTE: Python version was forced by py_require() ** testing if installed package can be loaded from final location python: C:/Users/biocbuild/AppData/Local/R/cache/R/reticulate/uv/cache/archive-v0/_0aNXaySk755D_OyXtkkx/Scripts/python.exe libpython: C:/Users/biocbuild/AppData/Local/R/cache/R/reticulate/uv/python/cpython-3.12.9-windows-x86_64-none/python312.dll pythonhome: C:/Users/biocbuild/AppData/Local/R/cache/R/reticulate/uv/cache/archive-v0/_0aNXaySk755D_OyXtkkx virtualenv: C:/Users/biocbuild/AppData/Local/R/cache/R/reticulate/uv/cache/archive-v0/_0aNXaySk755D_OyXtkkx/Scripts/activate_this.py version: 3.12.9 (main, Mar 17 2025, 21:06:20) [MSC v.1943 64 bit (AMD64)] Architecture: 64bit numpy: C:/Users/biocbuild/AppData/Local/R/cache/R/reticulate/uv/cache/archive-v0/_0aNXaySk755D_OyXtkkx/Lib/site-packages/numpy numpy_version: 2.2.6 NOTE: Python version was forced by py_require() ** testing if installed package keeps a record of temporary installation path * MD5 sums packaged installation of 'SpectriPy' as SpectriPy_0.99.8.zip * DONE (SpectriPy)