Package: SpectraQL Version: 1.4.0 Command: /Library/Frameworks/R.framework/Resources/bin/R CMD check --install=check:SpectraQL.install-out.txt --library=/Library/Frameworks/R.framework/Resources/library --no-vignettes --timings SpectraQL_1.4.0.tar.gz StartedAt: 2025-11-10 22:33:21 -0500 (Mon, 10 Nov 2025) EndedAt: 2025-11-10 22:33:54 -0500 (Mon, 10 Nov 2025) EllapsedTime: 33.4 seconds RetCode: 0 Status: OK CheckDir: SpectraQL.Rcheck Warnings: 0