Package: SpectraQL Version: 1.4.0 Command: rm -rf SpectraQL.buildbin-libdir && mkdir SpectraQL.buildbin-libdir && /Users/biocbuild/BBS/utils/build-universal.sh SpectraQL_1.4.0.tar.gz /Library/Frameworks/R.framework/Resources/bin/R SpectraQL.buildbin-libdir StartedAt: 2025-11-10 23:38:05 -0500 (Mon, 10 Nov 2025) EndedAt: 2025-11-10 23:38:09 -0500 (Mon, 10 Nov 2025) EllapsedTime: 4.1 seconds RetCode: 0 Status: OK PackageFile: SpectraQL_1.4.0.tgz PackageFileSize: 428.8 KiB