Package: Spectra Version: 1.20.0 Command: /home/biocbuild/R/R/bin/R CMD INSTALL Spectra StartedAt: 2025-11-20 22:02:25 -0000 (Thu, 20 Nov 2025) EndedAt: 2025-11-20 22:02:48 -0000 (Thu, 20 Nov 2025) EllapsedTime: 22.9 seconds RetCode: 0 Status: OK