Package: Spectra Version: 1.20.0 Command: /home/biocbuild/R/R/bin/R CMD check --install=check:Spectra.install-out.txt --library=/home/biocbuild/R/R/site-library --no-vignettes --timings Spectra_1.20.0.tar.gz StartedAt: 2025-11-18 15:29:13 -0000 (Tue, 18 Nov 2025) EndedAt: 2025-11-18 16:09:14 -0000 (Tue, 18 Nov 2025) EllapsedTime: 2400.9 seconds RetCode: None Status: TIMEOUT CheckDir: Spectra.Rcheck Warnings: NA