Package: Spectra Version: 1.20.0 Command: /home/biocbuild/R/R/bin/R CMD build --keep-empty-dirs --no-resave-data Spectra StartedAt: 2025-11-18 05:22:31 -0000 (Tue, 18 Nov 2025) EndedAt: 2025-11-18 05:23:47 -0000 (Tue, 18 Nov 2025) EllapsedTime: 76.0 seconds RetCode: 0 Status: OK PackageFile: Spectra_1.20.0.tar.gz PackageFileSize: 1.647 MiB