Package: Spectra Version: 1.20.0 Command: /home/biocbuild/bbs-3.22-bioc/R/bin/R CMD INSTALL Spectra StartedAt: 2025-11-17 17:14:56 -0500 (Mon, 17 Nov 2025) EndedAt: 2025-11-17 17:15:11 -0500 (Mon, 17 Nov 2025) EllapsedTime: 15.2 seconds RetCode: 0 Status: OK