Package: Spectra Version: 1.20.0 Command: /home/biocbuild/bbs-3.22-bioc/R/bin/R CMD check --install=check:Spectra.install-out.txt --library=/home/biocbuild/bbs-3.22-bioc/R/site-library --timings Spectra_1.20.0.tar.gz StartedAt: 2025-11-18 08:54:01 -0500 (Tue, 18 Nov 2025) EndedAt: 2025-11-18 09:02:47 -0500 (Tue, 18 Nov 2025) EllapsedTime: 526.5 seconds RetCode: 0 Status: OK CheckDir: Spectra.Rcheck Warnings: 0