Package: SpeCond Version: 1.63.0 Command: /home/biocbuild/R/R/bin/R CMD check --install=check:SpeCond.install-out.txt --library=/home/biocbuild/R/R/site-library --no-vignettes --timings SpeCond_1.63.0.tar.gz StartedAt: 2025-10-17 13:58:27 -0000 (Fri, 17 Oct 2025) EndedAt: 2025-10-17 14:00:06 -0000 (Fri, 17 Oct 2025) EllapsedTime: 99.1 seconds RetCode: 0 Status: OK CheckDir: SpeCond.Rcheck Warnings: 0