Package: SpeCond Version: 1.63.0 Command: /Library/Frameworks/R.framework/Resources/bin/R CMD check --install=check:SpeCond.install-out.txt --library=/Library/Frameworks/R.framework/Resources/library --no-vignettes --timings SpeCond_1.63.0.tar.gz StartedAt: 2025-10-20 22:14:14 -0400 (Mon, 20 Oct 2025) EndedAt: 2025-10-20 22:14:43 -0400 (Mon, 20 Oct 2025) EllapsedTime: 28.3 seconds RetCode: 0 Status: OK CheckDir: SpeCond.Rcheck Warnings: 0