Package: SpeCond Version: 1.63.0 Command: rm -rf SpeCond.buildbin-libdir && mkdir SpeCond.buildbin-libdir && /Users/biocbuild/BBS/utils/build-universal.sh SpeCond_1.63.0.tar.gz /Library/Frameworks/R.framework/Resources/bin/R SpeCond.buildbin-libdir StartedAt: 2025-10-20 23:18:29 -0400 (Mon, 20 Oct 2025) EndedAt: 2025-10-20 23:18:32 -0400 (Mon, 20 Oct 2025) EllapsedTime: 3.1 seconds RetCode: 0 Status: OK PackageFile: SpeCond_1.63.0.tgz PackageFileSize: 1.198 MiB