Package: SpatialExperiment Version: 1.20.0 Command: /Library/Frameworks/R.framework/Resources/bin/R CMD build --keep-empty-dirs --no-resave-data SpatialExperiment StartedAt: 2025-10-31 18:55:59 -0400 (Fri, 31 Oct 2025) EndedAt: 2025-10-31 18:57:19 -0400 (Fri, 31 Oct 2025) EllapsedTime: 79.9 seconds RetCode: 0 Status: OK PackageFile: SpatialExperiment_1.20.0.tar.gz PackageFileSize: 5.687 MiB