Package: SpatialExperiment Version: 1.20.0 Maintainer: Dario Righelli MaintainerEmail: dario.righelli at gmail.com git_url: https://git.bioconductor.org/packages/SpatialExperiment git_branch: RELEASE_3_22 git_last_commit: dfdda19 git_last_commit_date: 2025-10-29 11:00:55 -0400 (Wed, 29 Oct 2025)