Back to Multiple platform build/check report for BioC 3.22:   simplified   long
ABCDEFGHIJKLMNOPQR[S]TUVWXYZ

This page was generated on 2025-10-30 12:34 -0400 (Thu, 30 Oct 2025).

HostnameOSArch (*)R versionInstalled pkgs
nebbiolo2Linux (Ubuntu 24.04.3 LTS)x86_644.5.1 Patched (2025-08-23 r88802) -- "Great Square Root" 4901
lconwaymacOS 12.7.6 Montereyx86_644.5.1 Patched (2025-09-10 r88807) -- "Great Square Root" 4691
kjohnson3macOS 13.7.7 Venturaarm644.5.1 Patched (2025-09-10 r88807) -- "Great Square Root" 4637
Click on any hostname to see more info about the system (e.g. compilers)      (*) as reported by 'uname -p', except on Windows and Mac OS X

All results for package SpatialExperiment


To the developers/maintainers of the SpatialExperiment package:
- Allow up to 24 hours (and sometimes 48 hours) for your latest push to git@git.bioconductor.org:packages/SpatialExperiment.git to reflect on this report. See Troubleshooting Build Report for more information.
- Use the following Renviron settings to reproduce errors and warnings.
- If 'R CMD check' started to fail recently on the Linux builder(s) over a missing dependency, add the missing dependency to 'Suggests:' in your DESCRIPTION file. See Renviron.bioc for more information.

raw results

Package 2080/2361HostnameOS / ArchINSTALLBUILDCHECKBUILD BIN
SpatialExperiment 1.20.0  (landing page)
Dario Righelli
Snapshot Date: 2025-10-29 19:52 -0400 (Wed, 29 Oct 2025)
git_url: https://git.bioconductor.org/packages/SpatialExperiment
git_branch: RELEASE_3_22
git_last_commit: dfdda19
git_last_commit_date: 2025-10-29 11:00:55 -0400 (Wed, 29 Oct 2025)
nebbiolo2Linux (Ubuntu 24.04.3 LTS) / x86_64  OK    OK    OK  UNNEEDED, same version is already published
lconwaymacOS 12.7.6 Monterey / x86_64  OK    OK    OK    OK  UNNEEDED, same version is already published
kjohnson3macOS 13.7.7 Ventura / arm64  OK    OK    OK    OK  UNNEEDED, same version is already published



Results for Bioconductor software packages that depend directly on package SpatialExperiment

QUICK STATSOS / ArchINSTALLBUILDCHECKBUILD BIN
nebbiolo2Linux (Ubuntu 24.04.3 LTS) / x86_64
0055
0352
02347
lconwaymacOS 12.7.6 Monterey / x86_64
0055
0451
01347
0051
kjohnson3macOS 13.7.7 Ventura / arm64
0055
0451
01347
0051
Package 1/55HostnameOS / ArchINSTALLBUILDCHECKBUILD BIN
alabaster.spatial 1.10.0  (landing page)
Aaron Lun
git_last_commit: d3f2737
git_last_commit_date: 2025-10-29 11:21:22 -0400
nebbiolo2Linux (Ubuntu 24.04.3 LTS) / x86_64  OK    OK    OK  UNNEEDED, same version is already published
lconwaymacOS 12.7.6 Monterey / x86_64  OK    OK    OK    OK  UNNEEDED, same version is already published
kjohnson3macOS 13.7.7 Ventura / arm64  OK    OK    OK    OK  UNNEEDED, same version is already published
Package 2/55HostnameOS / ArchINSTALLBUILDCHECKBUILD BIN
Banksy 1.6.0  (landing page)
Joseph Lee
git_last_commit: 6847ab5
git_last_commit_date: 2025-10-29 11:27:15 -0400
nebbiolo2Linux (Ubuntu 24.04.3 LTS) / x86_64  OK    OK    OK  UNNEEDED, same version is already published
lconwaymacOS 12.7.6 Monterey / x86_64  OK    OK    OK    OK  UNNEEDED, same version is already published
kjohnson3macOS 13.7.7 Ventura / arm64  OK    OK    OK    OK  UNNEEDED, same version is already published
Package 3/55HostnameOS / ArchINSTALLBUILDCHECKBUILD BIN
BulkSignalR 1.2.0  (landing page)
Jean-Philippe Villemin
git_last_commit: 4e95251
git_last_commit_date: 2025-10-29 11:33:26 -0400
nebbiolo2Linux (Ubuntu 24.04.3 LTS) / x86_64  OK    OK    OK  UNNEEDED, same version is already published
lconwaymacOS 12.7.6 Monterey / x86_64  OK    OK    OK    OK  UNNEEDED, same version is already published
kjohnson3macOS 13.7.7 Ventura / arm64  OK    OK    OK    OK  UNNEEDED, same version is already published
Package 4/55HostnameOS / ArchINSTALLBUILDCHECKBUILD BIN
CARDspa 1.2.0  (landing page)
Jing Fu
git_last_commit: 980a743
git_last_commit_date: 2025-10-29 11:34:40 -0400
nebbiolo2Linux (Ubuntu 24.04.3 LTS) / x86_64  OK    OK    OK  UNNEEDED, same version is already published
lconwaymacOS 12.7.6 Monterey / x86_64  OK    OK    OK    OK  UNNEEDED, same version is already published
kjohnson3macOS 13.7.7 Ventura / arm64  OK    OK    OK    OK  UNNEEDED, same version is already published
Package 5/55HostnameOS / ArchINSTALLBUILDCHECKBUILD BIN
CatsCradle 1.4.0  (landing page)
Michael Shapiro
git_last_commit: a66a4d9
git_last_commit_date: 2025-10-29 11:31:59 -0400
nebbiolo2Linux (Ubuntu 24.04.3 LTS) / x86_64  OK    ERROR  skipped
lconwaymacOS 12.7.6 Monterey / x86_64  OK    ERROR  skippedskipped
kjohnson3macOS 13.7.7 Ventura / arm64  OK    ERROR  skippedskipped
Package 6/55HostnameOS / ArchINSTALLBUILDCHECKBUILD BIN
clustSIGNAL 1.2.0  (landing page)
Pratibha Panwar
git_last_commit: 55aa2e1
git_last_commit_date: 2025-10-29 11:35:51 -0400
nebbiolo2Linux (Ubuntu 24.04.3 LTS) / x86_64  OK    OK    OK  UNNEEDED, same version is already published
lconwaymacOS 12.7.6 Monterey / x86_64  OK    OK    OK    OK  UNNEEDED, same version is already published
kjohnson3macOS 13.7.7 Ventura / arm64  OK    OK    OK    OK  UNNEEDED, same version is already published
Package 7/55HostnameOS / ArchINSTALLBUILDCHECKBUILD BIN
concordexR 1.10.0  (landing page)
Kayla Jackson
git_last_commit: 9ea0373
git_last_commit_date: 2025-10-29 11:22:42 -0400
nebbiolo2Linux (Ubuntu 24.04.3 LTS) / x86_64  OK    OK    WARNINGS  UNNEEDED, same version is already published
lconwaymacOS 12.7.6 Monterey / x86_64  OK    OK    WARNINGS    OK  UNNEEDED, same version is already published
kjohnson3macOS 13.7.7 Ventura / arm64  OK    OK    WARNINGS    OK  UNNEEDED, same version is already published
Package 8/55HostnameOS / ArchINSTALLBUILDCHECKBUILD BIN
CTSV 1.12.0  (landing page)
Jinge Yu Developer
git_last_commit: 862c792
git_last_commit_date: 2025-10-29 11:17:28 -0400
nebbiolo2Linux (Ubuntu 24.04.3 LTS) / x86_64  OK    OK    OK  UNNEEDED, same version is already published
lconwaymacOS 12.7.6 Monterey / x86_64  OK    OK    OK    OK  UNNEEDED, same version is already published
kjohnson3macOS 13.7.7 Ventura / arm64  OK    OK    OK    OK  UNNEEDED, same version is already published
Package 9/55HostnameOS / ArchINSTALLBUILDCHECKBUILD BIN
cytomapper 1.22.0  (landing page)
Lasse Meyer
git_last_commit: 0d3160a
git_last_commit_date: 2025-10-29 10:57:59 -0400
nebbiolo2Linux (Ubuntu 24.04.3 LTS) / x86_64  OK    OK    OK  UNNEEDED, same version is already published
lconwaymacOS 12.7.6 Monterey / x86_64  OK    OK    OK    OK  UNNEEDED, same version is already published
kjohnson3macOS 13.7.7 Ventura / arm64  OK    OK    OK    OK  UNNEEDED, same version is already published
Package 10/55HostnameOS / ArchINSTALLBUILDCHECKBUILD BIN
DESpace 2.2.0  (landing page)
Peiying Cai
git_last_commit: 1f1d532
git_last_commit_date: 2025-10-29 11:22:00 -0400
nebbiolo2Linux (Ubuntu 24.04.3 LTS) / x86_64  OK    OK    OK  UNNEEDED, same version is already published
lconwaymacOS 12.7.6 Monterey / x86_64  OK    OK    OK    OK  UNNEEDED, same version is already published
kjohnson3macOS 13.7.7 Ventura / arm64  OK    OK    OK    OK  UNNEEDED, same version is already published
Package 11/55HostnameOS / ArchINSTALLBUILDCHECKBUILD BIN
escheR 1.10.0  (landing page)
Boyi Guo
git_last_commit: 3f79e54
git_last_commit_date: 2025-10-29 11:22:13 -0400
nebbiolo2Linux (Ubuntu 24.04.3 LTS) / x86_64  OK    OK    OK  UNNEEDED, same version is already published
lconwaymacOS 12.7.6 Monterey / x86_64  OK    OK    OK    OK  UNNEEDED, same version is already published
kjohnson3macOS 13.7.7 Ventura / arm64  OK    OK    OK    OK  UNNEEDED, same version is already published
Package 12/55HostnameOS / ArchINSTALLBUILDCHECKBUILD BIN
ExperimentSubset 1.20.0  (landing page)
Irzam Sarfraz
git_last_commit: fe8c338
git_last_commit_date: 2025-10-29 11:03:30 -0400
nebbiolo2Linux (Ubuntu 24.04.3 LTS) / x86_64  OK    OK    OK  UNNEEDED, same version is already published
lconwaymacOS 12.7.6 Monterey / x86_64  OK    OK    OK    OK  UNNEEDED, same version is already published
kjohnson3macOS 13.7.7 Ventura / arm64  OK    OK    OK    OK  UNNEEDED, same version is already published
Package 13/55HostnameOS / ArchINSTALLBUILDCHECKBUILD BIN
FLAMES 2.4.0  (landing page)
Changqing Wang
git_last_commit: 3a128b2
git_last_commit_date: 2025-10-29 11:10:46 -0400
nebbiolo2Linux (Ubuntu 24.04.3 LTS) / x86_64  OK    OK    OK  UNNEEDED, same version is already published
lconwaymacOS 12.7.6 Monterey / x86_64  OK    OK    OK    OK  UNNEEDED, same version is already published
kjohnson3macOS 13.7.7 Ventura / arm64  OK    OK    OK    OK  UNNEEDED, same version is already published
Package 14/55HostnameOS / ArchINSTALLBUILDCHECKBUILD BIN
ggspavis 1.16.0  (landing page)
Lukas M. Weber
git_last_commit: 9ea2f70
git_last_commit_date: 2025-10-29 11:11:33 -0400
nebbiolo2Linux (Ubuntu 24.04.3 LTS) / x86_64  OK    OK    OK  UNNEEDED, same version is already published
lconwaymacOS 12.7.6 Monterey / x86_64  OK    OK    OK    OK  UNNEEDED, same version is already published
kjohnson3macOS 13.7.7 Ventura / arm64  OK    OK    OK    OK  UNNEEDED, same version is already published
Package 15/55HostnameOS / ArchINSTALLBUILDCHECKBUILD BIN
GSVA 2.4.0  (landing page)
Robert Castelo
git_last_commit: ab6d8f1
git_last_commit_date: 2025-10-29 10:07:40 -0400
nebbiolo2Linux (Ubuntu 24.04.3 LTS) / x86_64  OK    OK    OK  UNNEEDED, same version is already published
lconwaymacOS 12.7.6 Monterey / x86_64  OK    OK    OK    OK  UNNEEDED, same version is already published
kjohnson3macOS 13.7.7 Ventura / arm64  OK    OK    OK    OK  UNNEEDED, same version is already published
Package 16/55HostnameOS / ArchINSTALLBUILDCHECKBUILD BIN
hoodscanR 1.8.0  (landing page)
Ning Liu
git_last_commit: 7fcc1c2
git_last_commit_date: 2025-10-29 11:25:11 -0400
nebbiolo2Linux (Ubuntu 24.04.3 LTS) / x86_64  OK    OK    OK  UNNEEDED, same version is already published
lconwaymacOS 12.7.6 Monterey / x86_64  OK    OK    OK    OK  UNNEEDED, same version is already published
kjohnson3macOS 13.7.7 Ventura / arm64  OK    OK    OK    OK  UNNEEDED, same version is already published
Package 17/55HostnameOS / ArchINSTALLBUILDCHECKBUILD BIN
imcRtools 1.16.0  (landing page)
Daniel Schulz
git_last_commit: 13fa3df
git_last_commit_date: 2025-10-29 11:12:28 -0400
nebbiolo2Linux (Ubuntu 24.04.3 LTS) / x86_64  OK    OK    OK  UNNEEDED, same version is already published
lconwaymacOS 12.7.6 Monterey / x86_64  OK    OK    OK    OK  UNNEEDED, same version is already published
kjohnson3macOS 13.7.7 Ventura / arm64  OK    OK    OK    OK  UNNEEDED, same version is already published
Package 18/55HostnameOS / ArchINSTALLBUILDCHECKBUILD BIN
jazzPanda 1.2.0  (landing page)
Melody Jin
git_last_commit: 8e3c90a
git_last_commit_date: 2025-10-29 11:34:53 -0400
nebbiolo2Linux (Ubuntu 24.04.3 LTS) / x86_64  OK    OK    OK  UNNEEDED, same version is already published
lconwaymacOS 12.7.6 Monterey / x86_64  OK    OK    OK    OK  UNNEEDED, same version is already published
kjohnson3macOS 13.7.7 Ventura / arm64  OK    OK    OK    OK  UNNEEDED, same version is already published
Package 19/55HostnameOS / ArchINSTALLBUILDCHECKBUILD BIN
lisaClust 1.18.0  (landing page)
Ellis Patrick
git_last_commit: 8ecd502
git_last_commit_date: 2025-10-29 11:06:59 -0400
nebbiolo2Linux (Ubuntu 24.04.3 LTS) / x86_64  OK    OK    OK  UNNEEDED, same version is already published
lconwaymacOS 12.7.6 Monterey / x86_64  OK    OK    OK    OK  UNNEEDED, same version is already published
kjohnson3macOS 13.7.7 Ventura / arm64  OK    OK    OK    OK  UNNEEDED, same version is already published
Package 20/55HostnameOS / ArchINSTALLBUILDCHECKBUILD BIN
MoleculeExperiment 1.10.0  (landing page)
Shila Ghazanfar
git_last_commit: b604184
git_last_commit_date: 2025-10-29 11:22:45 -0400
nebbiolo2Linux (Ubuntu 24.04.3 LTS) / x86_64  OK    OK    OK  UNNEEDED, same version is already published
lconwaymacOS 12.7.6 Monterey / x86_64  OK    OK    OK    OK  UNNEEDED, same version is already published
kjohnson3macOS 13.7.7 Ventura / arm64  OK    OK    OK    OK  UNNEEDED, same version is already published
Package 21/55HostnameOS / ArchINSTALLBUILDCHECKBUILD BIN
nnSVG 1.14.0  (landing page)
Lukas M. Weber
git_last_commit: f7af058
git_last_commit_date: 2025-10-29 11:15:43 -0400
nebbiolo2Linux (Ubuntu 24.04.3 LTS) / x86_64  OK    OK    OK  UNNEEDED, same version is already published
lconwaymacOS 12.7.6 Monterey / x86_64  OK    OK    OK    OK  UNNEEDED, same version is already published
kjohnson3macOS 13.7.7 Ventura / arm64  OK    OK    OK    OK  UNNEEDED, same version is already published
Package 22/55HostnameOS / ArchINSTALLBUILDCHECKBUILD BIN
poem 1.2.0  (landing page)
Siyuan Luo
git_last_commit: e248fd3
git_last_commit_date: 2025-10-29 11:34:48 -0400
nebbiolo2Linux (Ubuntu 24.04.3 LTS) / x86_64  OK    OK    OK  UNNEEDED, same version is already published
lconwaymacOS 12.7.6 Monterey / x86_64  OK    OK    OK    OK  UNNEEDED, same version is already published
kjohnson3macOS 13.7.7 Ventura / arm64  OK    OK    OK    OK  UNNEEDED, same version is already published
Package 23/55HostnameOS / ArchINSTALLBUILDCHECKBUILD BIN
scider 1.8.0  (landing page)
Yunshun Chen
git_last_commit: 2a5b6a6
git_last_commit_date: 2025-10-29 11:26:16 -0400
nebbiolo2Linux (Ubuntu 24.04.3 LTS) / x86_64  OK    OK    OK  UNNEEDED, same version is already published
lconwaymacOS 12.7.6 Monterey / x86_64  OK    OK    OK    OK  UNNEEDED, same version is already published
kjohnson3macOS 13.7.7 Ventura / arm64  OK    OK    OK    OK  UNNEEDED, same version is already published
Package 24/55HostnameOS / ArchINSTALLBUILDCHECKBUILD BIN
SEraster 1.2.0  (landing page)
Gohta Aihara
git_last_commit: 804b492
git_last_commit_date: 2025-10-29 11:35:58 -0400
nebbiolo2Linux (Ubuntu 24.04.3 LTS) / x86_64  OK    OK    OK  UNNEEDED, same version is already published
lconwaymacOS 12.7.6 Monterey / x86_64  OK    OK    OK    OK  UNNEEDED, same version is already published
kjohnson3macOS 13.7.7 Ventura / arm64  OK    OK    OK    OK  UNNEEDED, same version is already published
Package 25/55HostnameOS / ArchINSTALLBUILDCHECKBUILD BIN
signifinder 1.12.0  (landing page)
Stefania Pirrotta
git_last_commit: 4cc4ec4
git_last_commit_date: 2025-10-29 11:19:34 -0400
nebbiolo2Linux (Ubuntu 24.04.3 LTS) / x86_64  OK    OK    OK  UNNEEDED, same version is already published
lconwaymacOS 12.7.6 Monterey / x86_64  OK    OK    OK    OK  UNNEEDED, same version is already published
kjohnson3macOS 13.7.7 Ventura / arm64  OK    OK    OK    OK  UNNEEDED, same version is already published
Package 26/55HostnameOS / ArchINSTALLBUILDCHECKBUILD BIN
smoothclust 1.6.0  (landing page)
Lukas M. Weber
git_last_commit: da7fe79
git_last_commit_date: 2025-10-29 11:29:02 -0400
nebbiolo2Linux (Ubuntu 24.04.3 LTS) / x86_64  OK    OK    OK  UNNEEDED, same version is already published
lconwaymacOS 12.7.6 Monterey / x86_64  OK    OK    OK    OK  UNNEEDED, same version is already published
kjohnson3macOS 13.7.7 Ventura / arm64  OK    OK    OK    OK  UNNEEDED, same version is already published
Package 27/55HostnameOS / ArchINSTALLBUILDCHECKBUILD BIN
smoppix 1.2.0  (landing page)
Stijn Hawinkel
git_last_commit: ff312ee
git_last_commit_date: 2025-10-29 11:33:54 -0400
nebbiolo2Linux (Ubuntu 24.04.3 LTS) / x86_64  OK    OK    OK  UNNEEDED, same version is already published
lconwaymacOS 12.7.6 Monterey / x86_64  OK    OK    OK    OK  UNNEEDED, same version is already published
kjohnson3macOS 13.7.7 Ventura / arm64  OK    OK    OK    OK  UNNEEDED, same version is already published
Package 28/55HostnameOS / ArchINSTALLBUILDCHECKBUILD BIN
sosta 1.2.0  (landing page)
Samuel Gunz
git_last_commit: ecee469
git_last_commit_date: 2025-10-29 11:33:49 -0400
nebbiolo2Linux (Ubuntu 24.04.3 LTS) / x86_64  OK    OK    OK  UNNEEDED, same version is already published
lconwaymacOS 12.7.6 Monterey / x86_64  OK    OK    OK    OK  UNNEEDED, same version is already published
kjohnson3macOS 13.7.7 Ventura / arm64  OK    OK    OK    OK  UNNEEDED, same version is already published
Package 29/55HostnameOS / ArchINSTALLBUILDCHECKBUILD BIN
SpaceTrooper 1.0.0  (landing page)
Dario Righelli
git_last_commit: 88c0696
git_last_commit_date: 2025-10-29 11:37:03 -0400
nebbiolo2Linux (Ubuntu 24.04.3 LTS) / x86_64  OK    OK    OK  UNNEEDED, same version is already published
lconwaymacOS 12.7.6 Monterey / x86_64  OK    OK    OK    OK  UNNEEDED, same version is already published
kjohnson3macOS 13.7.7 Ventura / arm64  OK    OK    OK    OK  UNNEEDED, same version is already published
Package 30/55HostnameOS / ArchINSTALLBUILDCHECKBUILD BIN
spacexr 1.2.0  (landing page)
Gabriel Grajeda
git_last_commit: b6d81f6
git_last_commit_date: 2025-10-29 11:35:40 -0400
nebbiolo2Linux (Ubuntu 24.04.3 LTS) / x86_64  OK    OK    OK  UNNEEDED, same version is already published
lconwaymacOS 12.7.6 Monterey / x86_64  OK    OK    OK    OK  UNNEEDED, same version is already published
kjohnson3macOS 13.7.7 Ventura / arm64  OK    OK    OK    OK  UNNEEDED, same version is already published
Package 31/55HostnameOS / ArchINSTALLBUILDCHECKBUILD BIN
SpaNorm 1.4.0  (landing page)
Dharmesh D. Bhuva
git_last_commit: 3627d0d
git_last_commit_date: 2025-10-29 11:32:47 -0400
nebbiolo2Linux (Ubuntu 24.04.3 LTS) / x86_64  OK    OK    OK  UNNEEDED, same version is already published
lconwaymacOS 12.7.6 Monterey / x86_64  OK    OK    OK    OK  UNNEEDED, same version is already published
kjohnson3macOS 13.7.7 Ventura / arm64  OK    OK    OK    OK  UNNEEDED, same version is already published
Package 32/55HostnameOS / ArchINSTALLBUILDCHECKBUILD BIN
spARI 1.0.0  (landing page)
Yinqiao Yan
git_last_commit: 4a3384b
git_last_commit_date: 2025-10-29 11:37:24 -0400
nebbiolo2Linux (Ubuntu 24.04.3 LTS) / x86_64  OK    OK    OK  UNNEEDED, same version is already published
lconwaymacOS 12.7.6 Monterey / x86_64  OK    OK    OK    OK  UNNEEDED, same version is already published
kjohnson3macOS 13.7.7 Ventura / arm64  OK    OK    OK    OK  UNNEEDED, same version is already published
Package 33/55HostnameOS / ArchINSTALLBUILDCHECKBUILD BIN
spaSim 1.12.0  (landing page)
Yuzhou Feng
git_last_commit: a381de3
git_last_commit_date: 2025-10-29 11:17:31 -0400
nebbiolo2Linux (Ubuntu 24.04.3 LTS) / x86_64  OK    OK    OK  UNNEEDED, same version is already published
lconwaymacOS 12.7.6 Monterey / x86_64  OK    OK    OK    OK  UNNEEDED, same version is already published
kjohnson3macOS 13.7.7 Ventura / arm64  OK    OK    OK    OK  UNNEEDED, same version is already published
Package 34/55HostnameOS / ArchINSTALLBUILDCHECKBUILD BIN
spatialDE 1.16.0  (landing page)
Gabriele Sales
git_last_commit: dfd143b
git_last_commit_date: 2025-10-29 11:11:31 -0400
nebbiolo2Linux (Ubuntu 24.04.3 LTS) / x86_64  OK    OK    OK  UNNEEDED, same version is already published
lconwaymacOS 12.7.6 Monterey / x86_64  OK    ERROR  skippedskipped
kjohnson3macOS 13.7.7 Ventura / arm64  OK    ERROR  skippedskipped
Package 35/55HostnameOS / ArchINSTALLBUILDCHECKBUILD BIN
SpatialExperimentIO 1.2.0  (landing page)
Yixing E. Dong
git_last_commit: 811da54
git_last_commit_date: 2025-10-29 11:34:03 -0400
nebbiolo2Linux (Ubuntu 24.04.3 LTS) / x86_64  OK    OK    OK  UNNEEDED, same version is already published
lconwaymacOS 12.7.6 Monterey / x86_64  OK    OK    OK    OK  UNNEEDED, same version is already published
kjohnson3macOS 13.7.7 Ventura / arm64  OK    OK    OK    OK  UNNEEDED, same version is already published
Package 36/55HostnameOS / ArchINSTALLBUILDCHECKBUILD BIN
spatialFDA 1.2.0  (landing page)
Martin Emons
git_last_commit: 6860169
git_last_commit_date: 2025-10-29 11:33:57 -0400
nebbiolo2Linux (Ubuntu 24.04.3 LTS) / x86_64  OK    OK    OK  UNNEEDED, same version is already published
lconwaymacOS 12.7.6 Monterey / x86_64  OK    OK    OK    OK  UNNEEDED, same version is already published
kjohnson3macOS 13.7.7 Ventura / arm64  OK    OK    OK    OK  UNNEEDED, same version is already published
Package 37/55HostnameOS / ArchINSTALLBUILDCHECKBUILD BIN
SpatialFeatureExperiment 1.12.0  (landing page)
Lambda Moses
git_last_commit: ef58880
git_last_commit_date: 2025-10-29 11:19:11 -0400
nebbiolo2Linux (Ubuntu 24.04.3 LTS) / x86_64  OK    ERROR  skipped
lconwaymacOS 12.7.6 Monterey / x86_64  OK    ERROR  skippedskipped
kjohnson3macOS 13.7.7 Ventura / arm64  OK    ERROR  skippedskipped
Package 38/55HostnameOS / ArchINSTALLBUILDCHECKBUILD BIN
spatialSimGP 1.4.0  (landing page)
Kinnary Shah
git_last_commit: e777034
git_last_commit_date: 2025-10-29 11:32:27 -0400
nebbiolo2Linux (Ubuntu 24.04.3 LTS) / x86_64  OK    OK    OK  UNNEEDED, same version is already published
lconwaymacOS 12.7.6 Monterey / x86_64  OK    OK    OK    OK  UNNEEDED, same version is already published
kjohnson3macOS 13.7.7 Ventura / arm64  OK    OK    OK    OK  UNNEEDED, same version is already published
Package 39/55HostnameOS / ArchINSTALLBUILDCHECKBUILD BIN
SPIAT 1.12.0  (landing page)
Yuzhou Feng
git_last_commit: 60e740a
git_last_commit_date: 2025-10-29 11:18:57 -0400
nebbiolo2Linux (Ubuntu 24.04.3 LTS) / x86_64  OK    OK    OK  UNNEEDED, same version is already published
lconwaymacOS 12.7.6 Monterey / x86_64  OK    OK    OK    OK  UNNEEDED, same version is already published
kjohnson3macOS 13.7.7 Ventura / arm64  OK    OK    OK    OK  UNNEEDED, same version is already published
Package 40/55HostnameOS / ArchINSTALLBUILDCHECKBUILD BIN
spicyR 1.22.0  (landing page)
Ellis Patrick
git_last_commit: a906b18
git_last_commit_date: 2025-10-29 10:57:53 -0400
nebbiolo2Linux (Ubuntu 24.04.3 LTS) / x86_64  OK    OK    OK  UNNEEDED, same version is already published
lconwaymacOS 12.7.6 Monterey / x86_64  OK    OK    OK    OK  UNNEEDED, same version is already published
kjohnson3macOS 13.7.7 Ventura / arm64  OK    OK    OK    OK  UNNEEDED, same version is already published
Package 41/55HostnameOS / ArchINSTALLBUILDCHECKBUILD BIN
spoon 1.6.0  (landing page)
Kinnary Shah
git_last_commit: c2a5b85
git_last_commit_date: 2025-10-29 11:28:09 -0400
nebbiolo2Linux (Ubuntu 24.04.3 LTS) / x86_64  OK    OK    ERROR  
lconwaymacOS 12.7.6 Monterey / x86_64  OK    OK    OK    OK  UNNEEDED, same version is already published
kjohnson3macOS 13.7.7 Ventura / arm64  OK    OK    OK    OK  UNNEEDED, same version is already published
Package 42/55HostnameOS / ArchINSTALLBUILDCHECKBUILD BIN
SpotClean 1.12.0  (landing page)
Zijian Ni
git_last_commit: b7f5f4b
git_last_commit_date: 2025-10-29 11:17:07 -0400
nebbiolo2Linux (Ubuntu 24.04.3 LTS) / x86_64  OK    OK    OK  UNNEEDED, same version is already published
lconwaymacOS 12.7.6 Monterey / x86_64  OK    OK    OK    OK  UNNEEDED, same version is already published
kjohnson3macOS 13.7.7 Ventura / arm64  OK    OK    OK    OK  UNNEEDED, same version is already published
Package 43/55HostnameOS / ArchINSTALLBUILDCHECKBUILD BIN
SpotSweeper 1.6.0  (landing page)
Michael Totty
git_last_commit: 2a9e4a7
git_last_commit_date: 2025-10-29 11:29:53 -0400
nebbiolo2Linux (Ubuntu 24.04.3 LTS) / x86_64  OK    OK    OK  UNNEEDED, same version is already published
lconwaymacOS 12.7.6 Monterey / x86_64  OK    OK    OK    OK  UNNEEDED, same version is already published
kjohnson3macOS 13.7.7 Ventura / arm64  OK    OK    OK    OK  UNNEEDED, same version is already published
Package 44/55HostnameOS / ArchINSTALLBUILDCHECKBUILD BIN
standR 1.14.0  (landing page)
Ning Liu
git_last_commit: 40f29f9
git_last_commit_date: 2025-10-29 11:16:04 -0400
nebbiolo2Linux (Ubuntu 24.04.3 LTS) / x86_64  OK    OK    OK  UNNEEDED, same version is already published
lconwaymacOS 12.7.6 Monterey / x86_64  OK    OK    OK    OK  UNNEEDED, same version is already published
kjohnson3macOS 13.7.7 Ventura / arm64  OK    OK    OK    OK  UNNEEDED, same version is already published
Package 45/55HostnameOS / ArchINSTALLBUILDCHECKBUILD BIN
Statial 1.12.0  (landing page)
Farhan Ameen
git_last_commit: 7de3cdd
git_last_commit_date: 2025-10-29 11:19:57 -0400
nebbiolo2Linux (Ubuntu 24.04.3 LTS) / x86_64  OK    OK    OK  UNNEEDED, same version is already published
lconwaymacOS 12.7.6 Monterey / x86_64  OK    OK    OK    OK  UNNEEDED, same version is already published
kjohnson3macOS 13.7.7 Ventura / arm64  OK    OK    OK    OK  UNNEEDED, same version is already published
Package 46/55HostnameOS / ArchINSTALLBUILDCHECKBUILD BIN
stJoincount 1.12.0  (landing page)
Jiarong Song
git_last_commit: e320f30
git_last_commit_date: 2025-10-29 11:19:39 -0400
nebbiolo2Linux (Ubuntu 24.04.3 LTS) / x86_64  OK    OK    OK  UNNEEDED, same version is already published
lconwaymacOS 12.7.6 Monterey / x86_64  OK    OK    OK    OK  UNNEEDED, same version is already published
kjohnson3macOS 13.7.7 Ventura / arm64  OK    OK    OK    OK  UNNEEDED, same version is already published
Package 47/55HostnameOS / ArchINSTALLBUILDCHECKBUILD BIN
stPipe 1.0.0  (landing page)
Yang Xu
git_last_commit: f234c12
git_last_commit_date: 2025-10-29 11:37:41 -0400
nebbiolo2Linux (Ubuntu 24.04.3 LTS) / x86_64  OK    OK    WARNINGS  UNNEEDED, same version is already published
lconwaymacOS 12.7.6 Monterey / x86_64  OK    OK    WARNINGS    OK  UNNEEDED, same version is already published
kjohnson3macOS 13.7.7 Ventura / arm64  OK    OK    WARNINGS    OK  UNNEEDED, same version is already published
Package 48/55HostnameOS / ArchINSTALLBUILDCHECKBUILD BIN
SVP 1.2.0  (landing page)
Shuangbin Xu
git_last_commit: 2cb231f
git_last_commit_date: 2025-10-29 11:35:05 -0400
nebbiolo2Linux (Ubuntu 24.04.3 LTS) / x86_64  OK    ERROR  skipped
lconwaymacOS 12.7.6 Monterey / x86_64  OK    ERROR  skippedskipped
kjohnson3macOS 13.7.7 Ventura / arm64  OK    ERROR  skippedskipped
Package 49/55HostnameOS / ArchINSTALLBUILDCHECKBUILD BIN
tidySpatialExperiment 1.6.0  (landing page)
William Hutchison
git_last_commit: 1d82c95
git_last_commit_date: 2025-10-29 11:27:28 -0400
nebbiolo2Linux (Ubuntu 24.04.3 LTS) / x86_64  OK    OK    ERROR  
lconwaymacOS 12.7.6 Monterey / x86_64  OK    OK    ERROR    OK  
kjohnson3macOS 13.7.7 Ventura / arm64  OK    OK    ERROR    OK  
Package 50/55HostnameOS / ArchINSTALLBUILDCHECKBUILD BIN
tpSVG 1.6.0  (landing page)
Boyi Guo
git_last_commit: a7202a9
git_last_commit_date: 2025-10-29 11:28:17 -0400
nebbiolo2Linux (Ubuntu 24.04.3 LTS) / x86_64  OK    OK    OK  UNNEEDED, same version is already published
lconwaymacOS 12.7.6 Monterey / x86_64  OK    OK    OK    OK  UNNEEDED, same version is already published
kjohnson3macOS 13.7.7 Ventura / arm64  OK    OK    OK    OK  UNNEEDED, same version is already published
Package 51/55HostnameOS / ArchINSTALLBUILDCHECKBUILD BIN
VisiumIO 1.6.0  (landing page)
Marcel Ramos
git_last_commit: 0a06453
git_last_commit_date: 2025-10-29 11:27:23 -0400
nebbiolo2Linux (Ubuntu 24.04.3 LTS) / x86_64  OK    OK    OK  UNNEEDED, same version is already published
lconwaymacOS 12.7.6 Monterey / x86_64  OK    OK    OK    OK  UNNEEDED, same version is already published
kjohnson3macOS 13.7.7 Ventura / arm64  OK    OK    OK    OK  UNNEEDED, same version is already published
Package 52/55HostnameOS / ArchINSTALLBUILDCHECKBUILD BIN
visiumStitched 1.2.0  (landing page)
Nicholas J. Eagles
git_last_commit: a3f730b
git_last_commit_date: 2025-10-29 11:33:12 -0400
nebbiolo2Linux (Ubuntu 24.04.3 LTS) / x86_64  OK    OK    OK  YES
lconwaymacOS 12.7.6 Monterey / x86_64  OK    OK    OK    OK  UNNEEDED, same version is already published
kjohnson3macOS 13.7.7 Ventura / arm64  OK    OK    OK    OK  UNNEEDED, same version is already published
Package 53/55HostnameOS / ArchINSTALLBUILDCHECKBUILD BIN
Voyager 1.12.0  (landing page)
Lambda Moses
git_last_commit: d689ab8
git_last_commit_date: 2025-10-29 11:19:14 -0400
nebbiolo2Linux (Ubuntu 24.04.3 LTS) / x86_64  OK    OK    WARNINGS  YES
lconwaymacOS 12.7.6 Monterey / x86_64  OK    OK    WARNINGS    OK  UNNEEDED, same version is already published
kjohnson3macOS 13.7.7 Ventura / arm64  OK    OK    WARNINGS    OK  UNNEEDED, same version is already published
Package 54/55HostnameOS / ArchINSTALLBUILDCHECKBUILD BIN
XeniumIO 1.2.0  (landing page)
Marcel Ramos
git_last_commit: 727bab9
git_last_commit_date: 2025-10-29 11:34:29 -0400
nebbiolo2Linux (Ubuntu 24.04.3 LTS) / x86_64  OK    OK    OK  YES
lconwaymacOS 12.7.6 Monterey / x86_64  OK    OK    OK    OK  UNNEEDED, same version is already published
kjohnson3macOS 13.7.7 Ventura / arm64  OK    OK    OK    OK  UNNEEDED, same version is already published
Package 55/55HostnameOS / ArchINSTALLBUILDCHECKBUILD BIN
xenLite 1.4.0  (landing page)
Vincent Carey
git_last_commit: cc38f6b
git_last_commit_date: 2025-10-29 11:31:51 -0400
nebbiolo2Linux (Ubuntu 24.04.3 LTS) / x86_64  OK    OK    OK  YES
lconwaymacOS 12.7.6 Monterey / x86_64  OK    OK    OK    OK  UNNEEDED, same version is already published
kjohnson3macOS 13.7.7 Ventura / arm64  OK    OK    OK    OK  UNNEEDED, same version is already published