Package: SpatialDecon Version: 1.19.0 Command: /home/biocbuild/R/R/bin/R CMD INSTALL SpatialDecon StartedAt: 2025-10-16 22:26:53 -0000 (Thu, 16 Oct 2025) EndedAt: 2025-10-16 22:27:26 -0000 (Thu, 16 Oct 2025) EllapsedTime: 32.5 seconds RetCode: 0 Status: OK