Package: SpatialDecon Version: 1.19.0 Command: /home/biocbuild/R/R/bin/R CMD check --install=check:SpatialDecon.install-out.txt --library=/home/biocbuild/R/R/site-library --no-vignettes --timings SpatialDecon_1.19.0.tar.gz StartedAt: 2025-10-17 13:55:02 -0000 (Fri, 17 Oct 2025) EndedAt: 2025-10-17 14:09:56 -0000 (Fri, 17 Oct 2025) EllapsedTime: 893.1 seconds RetCode: 1 Status: ERROR CheckDir: SpatialDecon.Rcheck Warnings: NA