Package: SpatialDecon Version: 1.19.0 Command: /Library/Frameworks/R.framework/Resources/bin/R CMD INSTALL SpatialDecon StartedAt: 2025-10-19 15:53:07 -0400 (Sun, 19 Oct 2025) EndedAt: 2025-10-19 15:53:41 -0400 (Sun, 19 Oct 2025) EllapsedTime: 34.4 seconds RetCode: 0 Status: OK