Package: SpatialCPie Version: 1.26.0 Command: /Library/Frameworks/R.framework/Resources/bin/R CMD INSTALL SpatialCPie StartedAt: 2025-11-17 17:26:21 -0500 (Mon, 17 Nov 2025) EndedAt: 2025-11-17 17:26:31 -0500 (Mon, 17 Nov 2025) EllapsedTime: 10.2 seconds RetCode: 0 Status: OK