Package: SpatialCPie Version: 1.26.0 Command: /Library/Frameworks/R.framework/Resources/bin/R CMD build --keep-empty-dirs --no-resave-data SpatialCPie StartedAt: 2025-11-18 01:15:30 -0500 (Tue, 18 Nov 2025) EndedAt: 2025-11-18 01:15:54 -0500 (Tue, 18 Nov 2025) EllapsedTime: 23.2 seconds RetCode: 0 Status: OK PackageFile: SpatialCPie_1.26.0.tar.gz PackageFileSize: 1.559 MiB