Package: SparseSignatures Version: 2.20.0 Command: /home/biocbuild/bbs-3.22-bioc/R/bin/R CMD INSTALL SparseSignatures StartedAt: 2025-11-13 15:29:59 -0500 (Thu, 13 Nov 2025) EndedAt: 2025-11-13 15:30:38 -0500 (Thu, 13 Nov 2025) EllapsedTime: 39.3 seconds RetCode: 0 Status: OK