Package: SparseSignatures Version: 2.20.0 Command: /home/biocbuild/bbs-3.22-bioc/R/bin/R CMD check --install=check:SparseSignatures.install-out.txt --library=/home/biocbuild/bbs-3.22-bioc/R/site-library --timings SparseSignatures_2.20.0.tar.gz StartedAt: 2025-11-14 04:25:57 -0500 (Fri, 14 Nov 2025) EndedAt: 2025-11-14 04:37:40 -0500 (Fri, 14 Nov 2025) EllapsedTime: 702.7 seconds RetCode: 0 Status: OK CheckDir: SparseSignatures.Rcheck Warnings: 0