Package: SpaceTrooper Version: 0.99.4 Command: /Library/Frameworks/R.framework/Resources/bin/R CMD check --install=check:SpaceTrooper.install-out.txt --library=/Library/Frameworks/R.framework/Resources/library --no-vignettes --timings SpaceTrooper_0.99.4.tar.gz StartedAt: 2025-10-02 00:35:52 -0400 (Thu, 02 Oct 2025) EndedAt: 2025-10-02 00:44:04 -0400 (Thu, 02 Oct 2025) EllapsedTime: 492.9 seconds RetCode: 1 Status: ERROR CheckDir: SpaceTrooper.Rcheck Warnings: NA