Package: SpaceTrooper Version: 0.99.4 Command: /Library/Frameworks/R.framework/Resources/bin/R CMD build --keep-empty-dirs --no-resave-data SpaceTrooper StartedAt: 2025-10-02 19:02:09 -0400 (Thu, 02 Oct 2025) EndedAt: 2025-10-02 19:04:43 -0400 (Thu, 02 Oct 2025) EllapsedTime: 154.0 seconds RetCode: 0 Status: OK PackageFile: SpaceTrooper_0.99.4.tar.gz PackageFileSize: 7.814 MiB