Package: SpaceMarkers Version: 1.5.0 Command: /home/biocbuild/R/R/bin/R CMD INSTALL SpaceMarkers StartedAt: 2025-10-16 21:21:35 -0000 (Thu, 16 Oct 2025) EndedAt: 2025-10-16 21:22:13 -0000 (Thu, 16 Oct 2025) EllapsedTime: 38.1 seconds RetCode: 0 Status: OK