Package: SpaceMarkers Version: 1.5.0 Command: /home/biocbuild/R/R/bin/R CMD build --keep-empty-dirs --no-resave-data SpaceMarkers StartedAt: 2025-10-17 04:45:38 -0000 (Fri, 17 Oct 2025) EndedAt: 2025-10-17 04:51:34 -0000 (Fri, 17 Oct 2025) EllapsedTime: 356.2 seconds RetCode: 0 Status: OK PackageFile: SpaceMarkers_1.5.0.tar.gz PackageFileSize: 2.05 MiB