Package: SpaceMarkers Version: 1.5.0 Command: /home/biocbuild/bbs-3.22-bioc/R/bin/R CMD check --install=check:SpaceMarkers.install-out.txt --library=/home/biocbuild/bbs-3.22-bioc/R/site-library --timings SpaceMarkers_1.5.0.tar.gz StartedAt: 2025-09-10 04:20:41 -0400 (Wed, 10 Sep 2025) EndedAt: 2025-09-10 04:34:00 -0400 (Wed, 10 Sep 2025) EllapsedTime: 798.7 seconds RetCode: 0 Status: OK CheckDir: SpaceMarkers.Rcheck Warnings: 0