Package: SpaceMarkers Version: 1.5.0 Command: /home/biocbuild/bbs-3.22-bioc/R/bin/R CMD build --keep-empty-dirs --no-resave-data --md5 SpaceMarkers StartedAt: 2025-10-19 20:09:59 -0400 (Sun, 19 Oct 2025) EndedAt: 2025-10-19 20:13:01 -0400 (Sun, 19 Oct 2025) EllapsedTime: 182.1 seconds RetCode: 1 Status: ERROR PackageFile: None PackageFileSize: NA