Package: SpaceMarkers Version: 1.5.0 Command: /Library/Frameworks/R.framework/Resources/bin/R CMD INSTALL SpaceMarkers StartedAt: 2025-10-19 15:14:30 -0400 (Sun, 19 Oct 2025) EndedAt: 2025-10-19 15:15:02 -0400 (Sun, 19 Oct 2025) EllapsedTime: 32.2 seconds RetCode: 0 Status: OK