Package: SpaceMarkers Version: 1.5.0 Command: /Library/Frameworks/R.framework/Resources/bin/R CMD check --install=check:SpaceMarkers.install-out.txt --library=/Library/Frameworks/R.framework/Resources/library --no-vignettes --timings SpaceMarkers_1.5.0.tar.gz StartedAt: 2025-09-10 00:01:18 -0400 (Wed, 10 Sep 2025) EndedAt: 2025-09-10 00:12:06 -0400 (Wed, 10 Sep 2025) EllapsedTime: 648.6 seconds RetCode: 0 Status: OK CheckDir: SpaceMarkers.Rcheck Warnings: 0