Package: SpaceMarkers Version: 1.5.0 Command: /Library/Frameworks/R.framework/Resources/bin/R CMD build --keep-empty-dirs --no-resave-data SpaceMarkers StartedAt: 2025-10-19 19:34:21 -0400 (Sun, 19 Oct 2025) EndedAt: 2025-10-19 19:38:29 -0400 (Sun, 19 Oct 2025) EllapsedTime: 248.0 seconds RetCode: 1 Status: ERROR PackageFile: None PackageFileSize: NA