Package: SpaceMarkers Version: 1.5.0 Command: rm -rf SpaceMarkers.buildbin-libdir && mkdir SpaceMarkers.buildbin-libdir && /Users/biocbuild/BBS/utils/build-universal.sh SpaceMarkers_1.5.0.tar.gz /Library/Frameworks/R.framework/Resources/bin/R SpaceMarkers.buildbin-libdir StartedAt: 2025-09-10 01:39:44 -0400 (Wed, 10 Sep 2025) EndedAt: 2025-09-10 01:40:02 -0400 (Wed, 10 Sep 2025) EllapsedTime: 18.4 seconds RetCode: 0 Status: OK PackageFile: SpaceMarkers_1.5.0.tgz PackageFileSize: 3.057 MiB