Package: SpaNorm Version: 1.4.0 Command: rm -rf SpaNorm.buildbin-libdir && mkdir SpaNorm.buildbin-libdir && /Users/biocbuild/BBS/utils/build-universal.sh SpaNorm_1.4.0.tar.gz /Library/Frameworks/R.framework/Resources/bin/R SpaNorm.buildbin-libdir StartedAt: 2025-11-04 02:05:54 -0500 (Tue, 04 Nov 2025) EndedAt: 2025-11-04 02:06:02 -0500 (Tue, 04 Nov 2025) EllapsedTime: 8.1 seconds RetCode: 0 Status: OK PackageFile: SpaNorm_1.4.0.tgz PackageFileSize: 7.662 MiB