Package: SpaNorm Version: 1.4.0 Command: /Library/Frameworks/R.framework/Resources/bin/R CMD INSTALL SpaNorm StartedAt: 2025-10-31 15:32:55 -0400 (Fri, 31 Oct 2025) EndedAt: 2025-10-31 15:32:57 -0400 (Fri, 31 Oct 2025) EllapsedTime: 2.0 seconds RetCode: 0 Status: OK