Package: SpaNorm Version: 1.4.0 Command: /Library/Frameworks/R.framework/Resources/bin/R CMD build --keep-empty-dirs --no-resave-data SpaNorm StartedAt: 2025-11-02 17:48:44 -0500 (Sun, 02 Nov 2025) EndedAt: 2025-11-02 17:51:14 -0500 (Sun, 02 Nov 2025) EllapsedTime: 149.6 seconds RetCode: 0 Status: OK PackageFile: SpaNorm_1.4.0.tar.gz PackageFileSize: 8.129 MiB