Package: SpaNorm Version: 1.4.0 Command: rm -rf SpaNorm.buildbin-libdir && mkdir SpaNorm.buildbin-libdir && /Users/biocbuild/BBS/utils/build-universal.sh SpaNorm_1.4.0.tar.gz /Library/Frameworks/R.framework/Resources/bin/R SpaNorm.buildbin-libdir StartedAt: 2025-10-31 23:24:46 -0400 (Fri, 31 Oct 2025) EndedAt: 2025-10-31 23:24:48 -0400 (Fri, 31 Oct 2025) EllapsedTime: 2.1 seconds RetCode: 0 Status: OK PackageFile: SpaNorm_1.4.0.tgz PackageFileSize: 7.663 MiB