Package: SomaticSignatures Version: 2.45.1 Command: /home/biocbuild/R/R/bin/R CMD INSTALL SomaticSignatures StartedAt: 2025-10-16 22:07:17 -0000 (Thu, 16 Oct 2025) EndedAt: 2025-10-16 22:08:26 -0000 (Thu, 16 Oct 2025) EllapsedTime: 68.7 seconds RetCode: 0 Status: OK