Package: SomaticSignatures Version: 2.45.1 Command: /home/biocbuild/R/R/bin/R CMD build --keep-empty-dirs --no-resave-data SomaticSignatures StartedAt: 2025-10-17 04:45:20 -0000 (Fri, 17 Oct 2025) EndedAt: 2025-10-17 04:46:54 -0000 (Fri, 17 Oct 2025) EllapsedTime: 94.1 seconds RetCode: 1 Status: ERROR PackageFile: None PackageFileSize: NA