Package: SomaticSignatures Version: 2.45.1 Command: /Library/Frameworks/R.framework/Resources/bin/R CMD INSTALL SomaticSignatures StartedAt: 2025-10-19 15:43:01 -0400 (Sun, 19 Oct 2025) EndedAt: 2025-10-19 15:44:19 -0400 (Sun, 19 Oct 2025) EllapsedTime: 77.6 seconds RetCode: 0 Status: OK