Package: SomaticSignatures Version: 2.45.1 Command: /Library/Frameworks/R.framework/Resources/bin/R CMD build --keep-empty-dirs --no-resave-data SomaticSignatures StartedAt: 2025-10-20 19:34:32 -0400 (Mon, 20 Oct 2025) EndedAt: 2025-10-20 19:39:06 -0400 (Mon, 20 Oct 2025) EllapsedTime: 273.3 seconds RetCode: 0 Status: OK PackageFile: SomaticSignatures_2.45.1.tar.gz PackageFileSize: 2.819 MiB